BEGIN:VCALENDAR
VERSION:2.0
PRODID:-//178.20.216.113//NONSGML kigkonsult.se iCalcreator 2.20//
CALSCALE:GREGORIAN
METHOD:PUBLISH
X-WR-TIMEZONE:UTC
BEGIN:VEVENT
UID:event35@Lm Vestjylland
DTSTAMP:20260424T180214Z
CATEGORIES:Årsmøder
DESCRIPTION:Afdelingsgeneralforsamling\nKategori: Årsmøder\nLink: https://l
 m-vestjylland.dk/index.php?option=com_jem&view=event&id=35:afdelingsgenera
 lforsamling\n
DTSTART:20261102T190000Z
DTEND:20261102T220000Z
LOCATION:Skjern Missionshus\,Nørregade 13\,6900 Skjern
SUMMARY:Afdelingsgeneralforsamling
URL:https://lm-vestjylland.dk/index.php?option=com_jem&view=event&id=35:afd
 elingsgeneralforsamling
END:VEVENT
END:VCALENDAR